BEGIN:VCALENDAR
VERSION:2.0
PRODID:-//ESTES ONLINE - ECPv6.15.17.1//NONSGML v1.0//EN
CALSCALE:GREGORIAN
METHOD:PUBLISH
X-ORIGINAL-URL:https://www.estesonline.org
X-WR-CALDESC:Events for ESTES ONLINE
REFRESH-INTERVAL;VALUE=DURATION:PT1H
X-Robots-Tag:noindex
X-PUBLISHED-TTL:PT1H
BEGIN:VTIMEZONE
TZID:Europe/Berlin
BEGIN:DAYLIGHT
TZOFFSETFROM:+0100
TZOFFSETTO:+0200
TZNAME:CEST
DTSTART:20240331T010000
END:DAYLIGHT
BEGIN:STANDARD
TZOFFSETFROM:+0200
TZOFFSETTO:+0100
TZNAME:CET
DTSTART:20241027T010000
END:STANDARD
BEGIN:DAYLIGHT
TZOFFSETFROM:+0100
TZOFFSETTO:+0200
TZNAME:CEST
DTSTART:20250330T010000
END:DAYLIGHT
BEGIN:STANDARD
TZOFFSETFROM:+0200
TZOFFSETTO:+0100
TZNAME:CET
DTSTART:20251026T010000
END:STANDARD
BEGIN:DAYLIGHT
TZOFFSETFROM:+0100
TZOFFSETTO:+0200
TZNAME:CEST
DTSTART:20260329T010000
END:DAYLIGHT
BEGIN:STANDARD
TZOFFSETFROM:+0200
TZOFFSETTO:+0100
TZNAME:CET
DTSTART:20261025T010000
END:STANDARD
END:VTIMEZONE
BEGIN:VEVENT
DTSTART;VALUE=DATE:20250828
DTEND;VALUE=DATE:20250830
DTSTAMP:20260424T173221
CREATED:20250311T095256Z
LAST-MODIFIED:20250505T130353Z
UID:3016-1756339200-1756511999@www.estesonline.org
SUMMARY:EFOA 2025 - Enteric Fistula and Open Abdomen
DESCRIPTION:Towards better patient outcomes:\nEFOA 2025 International Symposium in Copenhagen\nWe are excited to announce the EFOA 2025 International Symposium\, set to take place in the vibrant city of Copenhagen. This symposium is tailored to unite a diverse array of medical professionals from around the globe. \nOur aim is to provide a platform for knowledge-sharing\, discussion\, and collaboration across specialties. The symposium will feature presentations\, and discussions on cutting-edge topics and best practices. \nWe invite you to join us for this unique opportunity to delve into new knowledge\, exchange experiences\, and network with colleagues from around the world. Let us explore together how we can enhance patient care and outcomes within our fields. \nWe look forward to welcoming you to the EFOA 2025 International Symposium in Copenhagen\, where together we can create a meaningful and enriching experience. \n  \nClick here to see the programme. \nHere is the flyer.
URL:https://www.estesonline.org/event/efoa-2025-enteric-fistula-and-open-abdomen/
LOCATION:Scandic Spectrum\, Kalvebod brygge 10\, Copenhagen\, Kalvebod brygge 10\, Copenhagen\, Denmark
CATEGORIES:Endorsed
END:VEVENT
END:VCALENDAR