BEGIN:VCALENDAR
VERSION:2.0
PRODID:-//ESTES ONLINE - ECPv6.15.17.1//NONSGML v1.0//EN
CALSCALE:GREGORIAN
METHOD:PUBLISH
X-WR-CALNAME:ESTES ONLINE
X-ORIGINAL-URL:https://www.estesonline.org
X-WR-CALDESC:Events for ESTES ONLINE
REFRESH-INTERVAL;VALUE=DURATION:PT1H
X-Robots-Tag:noindex
X-PUBLISHED-TTL:PT1H
BEGIN:VTIMEZONE
TZID:Europe/Berlin
BEGIN:DAYLIGHT
TZOFFSETFROM:+0100
TZOFFSETTO:+0200
TZNAME:CEST
DTSTART:20250330T010000
END:DAYLIGHT
BEGIN:STANDARD
TZOFFSETFROM:+0200
TZOFFSETTO:+0100
TZNAME:CET
DTSTART:20251026T010000
END:STANDARD
BEGIN:DAYLIGHT
TZOFFSETFROM:+0100
TZOFFSETTO:+0200
TZNAME:CEST
DTSTART:20260329T010000
END:DAYLIGHT
BEGIN:STANDARD
TZOFFSETFROM:+0200
TZOFFSETTO:+0100
TZNAME:CET
DTSTART:20261025T010000
END:STANDARD
BEGIN:DAYLIGHT
TZOFFSETFROM:+0100
TZOFFSETTO:+0200
TZNAME:CEST
DTSTART:20270328T010000
END:DAYLIGHT
BEGIN:STANDARD
TZOFFSETFROM:+0200
TZOFFSETTO:+0100
TZNAME:CET
DTSTART:20271031T010000
END:STANDARD
END:VTIMEZONE
BEGIN:VEVENT
DTSTART;VALUE=DATE:20260515
DTEND;VALUE=DATE:20260517
DTSTAMP:20260424T155150
CREATED:20260205T150352Z
LAST-MODIFIED:20260206T151015Z
UID:3487-1778803200-1778975999@www.estesonline.org
SUMMARY:MUSEC - Modular Ultrasound ESTES Course
DESCRIPTION:Click HERE to see the program \nIf you want to register please send an email to: efreixa@tauli.cat \nPlease note that the course will be held in Spanish!
URL:https://www.estesonline.org/event/musec-modular-ultrasound-estes-course-5/
LOCATION:Parc Tauli\, Hospital Universitari\, Parc de Taulí 1\, Ed. Taulí\, Sabadell\, 08208\, Spain
CATEGORIES:Endorsed
ORGANIZER;CN="MUSEC":MAILTO:efreixa@tauli.cat
END:VEVENT
BEGIN:VEVENT
DTSTART;TZID=Europe/Berlin:20260530T150000
DTEND;TZID=Europe/Berlin:20260601T000000
DTSTAMP:20260424T155150
CREATED:20260318T081735Z
LAST-MODIFIED:20260324T084353Z
UID:3516-1780153200-1780272000@www.estesonline.org
SUMMARY:"ESTES Interdisciplinary Pelvic Trauma Course" in Cooperation with ISOPS
DESCRIPTION:  \nPlease click HERE to see the program.
URL:https://www.estesonline.org/event/isops-annual-spring-meeting/
LOCATION:Statler Hotel\, 1914 Commerce St\, Dallas\, 75201\, United States
CATEGORIES:Endorsed
END:VEVENT
END:VCALENDAR