BEGIN:VCALENDAR
VERSION:2.0
PRODID:-//ESTES ONLINE - ECPv6.15.17.1//NONSGML v1.0//EN
CALSCALE:GREGORIAN
METHOD:PUBLISH
X-WR-CALNAME:ESTES ONLINE
X-ORIGINAL-URL:https://www.estesonline.org
X-WR-CALDESC:Events for ESTES ONLINE
REFRESH-INTERVAL;VALUE=DURATION:PT1H
X-Robots-Tag:noindex
X-PUBLISHED-TTL:PT1H
BEGIN:VTIMEZONE
TZID:Europe/Berlin
BEGIN:DAYLIGHT
TZOFFSETFROM:+0100
TZOFFSETTO:+0200
TZNAME:CEST
DTSTART:20240331T010000
END:DAYLIGHT
BEGIN:STANDARD
TZOFFSETFROM:+0200
TZOFFSETTO:+0100
TZNAME:CET
DTSTART:20241027T010000
END:STANDARD
BEGIN:DAYLIGHT
TZOFFSETFROM:+0100
TZOFFSETTO:+0200
TZNAME:CEST
DTSTART:20250330T010000
END:DAYLIGHT
BEGIN:STANDARD
TZOFFSETFROM:+0200
TZOFFSETTO:+0100
TZNAME:CET
DTSTART:20251026T010000
END:STANDARD
BEGIN:DAYLIGHT
TZOFFSETFROM:+0100
TZOFFSETTO:+0200
TZNAME:CEST
DTSTART:20260329T010000
END:DAYLIGHT
BEGIN:STANDARD
TZOFFSETFROM:+0200
TZOFFSETTO:+0100
TZNAME:CET
DTSTART:20261025T010000
END:STANDARD
END:VTIMEZONE
BEGIN:VEVENT
DTSTART;VALUE=DATE:20250919
DTEND;VALUE=DATE:20250921
DTSTAMP:20260424T125632
CREATED:20250625T111712Z
LAST-MODIFIED:20250625T111834Z
UID:3202-1758240000-1758412799@www.estesonline.org
SUMMARY:Emergency Surgery Course (ESC\, AAST/ESTES)
DESCRIPTION:A new Emergency Surgery Course (ESC\, AAST/ESTES) is being organised and is due to take place in Vila Real\, Portugal\, on the 19th and 20th of September 2025. \nI am therefore taking the liberty of asking for your co-operation in publicising the event among your close colleagues\, especially seniors and residents from the last three years\, given its advanced nature. For replies\, please use my personal email address\, mesquita.carlos@sapo.pt. \nAs in previous editions\, the course will last two days\, during which\, under the guidance of accredited emergency surgeons\, topics such as the following will be covered interactively and supported by concrete clinical cases\, including operative videos: \n\nAbdominal sepsis\nAppendicitis\nIntestinal obstruction\nCholecystitis\nColorectal emergencies\nGastrointestinal haemorrhage\nEsophageal perforations\nMesenteric ischaemia\nObstetric and gynaecological emergencies\nOpen abdomen\nNecrotizing Soft-Tissue Infections\nPancreatitis\nPeptic ulcer\nPost-operative complications\nRadiology in emergency surgery\nSpontaneous haemoperitoneum\n\nThe afternoon of the second day will be dedicated to evaluations. \nThe course will be face-to-face\, for 24 candidates\, and registration\, priced at €450\, will entitle you to a copy of ‘The AAST/ESTES Emergency Surgery Course Handbook – A Practical Reference In Expecting The Unexpected’\, coordinated by Andrew (Andy) Peitzman\, as well as catering for the course. \nBank transfers \n\nmust be processed through Lusitanian Association for Trauma and Emergency Surgery (LATES / ALTEC) IBAN\, PT50 0007 0229 0000 3180 0003 3\, and\nshould mention the candidate’s name\, medical career status and ESC;\nIf the course capacity is exceeded\, ALTEC will immediately proceed to refund any excess payments.\n\nUntil the 22th of August\, the order in which payments are received (by bank transfer) will be taken into account\, but priority will be given to 1) consultants\, 2) specialists and 3) residents from the last three years. From then on\, only the order in which payments arrive will be taken into account.
URL:https://www.estesonline.org/event/emergency-surgery-course-esc-aast-estes/
LOCATION:Vila Real\, Portugal
CATEGORIES:Endorsed
END:VEVENT
BEGIN:VEVENT
DTSTART;TZID=Europe/Berlin:20250919T080000
DTEND;TZID=Europe/Berlin:20250920T170000
DTSTAMP:20260424T125632
CREATED:20250831T184628Z
LAST-MODIFIED:20250831T185052Z
UID:3281-1758268800-1758387600@www.estesonline.org
SUMMARY:The ESTES/AAST Emergency Surgery Handbook
DESCRIPTION:Have a look at the flyer! \nPlease click here to see the program. \n  \n 
URL:https://www.estesonline.org/event/test-test-fur-herrn-heller/
LOCATION:Vila Real\, Portugal
CATEGORIES:Endorsed
END:VEVENT
END:VCALENDAR