BEGIN:VCALENDAR
VERSION:2.0
PRODID:-//ESTES ONLINE - ECPv6.15.17.1//NONSGML v1.0//EN
CALSCALE:GREGORIAN
METHOD:PUBLISH
X-ORIGINAL-URL:https://www.estesonline.org
X-WR-CALDESC:Events for ESTES ONLINE
REFRESH-INTERVAL;VALUE=DURATION:PT1H
X-Robots-Tag:noindex
X-PUBLISHED-TTL:PT1H
BEGIN:VTIMEZONE
TZID:Europe/Berlin
BEGIN:DAYLIGHT
TZOFFSETFROM:+0100
TZOFFSETTO:+0200
TZNAME:CEST
DTSTART:20240331T010000
END:DAYLIGHT
BEGIN:STANDARD
TZOFFSETFROM:+0200
TZOFFSETTO:+0100
TZNAME:CET
DTSTART:20241027T010000
END:STANDARD
BEGIN:DAYLIGHT
TZOFFSETFROM:+0100
TZOFFSETTO:+0200
TZNAME:CEST
DTSTART:20250330T010000
END:DAYLIGHT
BEGIN:STANDARD
TZOFFSETFROM:+0200
TZOFFSETTO:+0100
TZNAME:CET
DTSTART:20251026T010000
END:STANDARD
BEGIN:DAYLIGHT
TZOFFSETFROM:+0100
TZOFFSETTO:+0200
TZNAME:CEST
DTSTART:20260329T010000
END:DAYLIGHT
BEGIN:STANDARD
TZOFFSETFROM:+0200
TZOFFSETTO:+0100
TZNAME:CET
DTSTART:20261025T010000
END:STANDARD
END:VTIMEZONE
BEGIN:VEVENT
DTSTART;VALUE=DATE:20250929
DTEND;VALUE=DATE:20251001
DTSTAMP:20260424T142516
CREATED:20250429T063133Z
LAST-MODIFIED:20250430T133903Z
UID:3157-1759104000-1759276799@www.estesonline.org
SUMMARY:Definitive Surgical Trauma Care - DSTC
DESCRIPTION:Please click here to see the Preliminary Program.
URL:https://www.estesonline.org/event/definitive-surgical-trauma-care-dstc-2/
LOCATION:Medical University of Graz\, Austria
CATEGORIES:Endorsed
ORGANIZER;CN="www.vcfw.at":MAILTO:office@vcfw.at
END:VEVENT
END:VCALENDAR