BEGIN:VCALENDAR
VERSION:2.0
PRODID:-//ESTES ONLINE - ECPv6.15.17.1//NONSGML v1.0//EN
CALSCALE:GREGORIAN
METHOD:PUBLISH
X-WR-CALNAME:ESTES ONLINE
X-ORIGINAL-URL:https://www.estesonline.org
X-WR-CALDESC:Events for ESTES ONLINE
REFRESH-INTERVAL;VALUE=DURATION:PT1H
X-Robots-Tag:noindex
X-PUBLISHED-TTL:PT1H
BEGIN:VTIMEZONE
TZID:Europe/Berlin
BEGIN:DAYLIGHT
TZOFFSETFROM:+0100
TZOFFSETTO:+0200
TZNAME:CEST
DTSTART:20250330T010000
END:DAYLIGHT
BEGIN:STANDARD
TZOFFSETFROM:+0200
TZOFFSETTO:+0100
TZNAME:CET
DTSTART:20251026T010000
END:STANDARD
BEGIN:DAYLIGHT
TZOFFSETFROM:+0100
TZOFFSETTO:+0200
TZNAME:CEST
DTSTART:20260329T010000
END:DAYLIGHT
BEGIN:STANDARD
TZOFFSETFROM:+0200
TZOFFSETTO:+0100
TZNAME:CET
DTSTART:20261025T010000
END:STANDARD
BEGIN:DAYLIGHT
TZOFFSETFROM:+0100
TZOFFSETTO:+0200
TZNAME:CEST
DTSTART:20270328T010000
END:DAYLIGHT
BEGIN:STANDARD
TZOFFSETFROM:+0200
TZOFFSETTO:+0100
TZNAME:CET
DTSTART:20271031T010000
END:STANDARD
END:VTIMEZONE
BEGIN:VEVENT
DTSTART;VALUE=DATE:20260426
DTEND;VALUE=DATE:20260429
DTSTAMP:20260424T141759
CREATED:20260127T183808Z
LAST-MODIFIED:20260128T090001Z
UID:3478-1777161600-1777420799@www.estesonline.org
SUMMARY:25th European Congress of Trauma and Emergency Surgery (ESTES) & 8th World Trauma Congress (WTC)
DESCRIPTION:The 25th anniversary of the European Congress of Trauma and Emergency Surgery (ECTES) will be celebrated in 2026 in Stockholm\, a city that represents unity\, innovation\, and progress. The congress will be a joint venture with the 8th World Trauma Congress (WTC). \nThe congress motto “TEAM -Together Each Achieve More” highlights the importance of strong teamwork in the care of trauma and emergency surgery patients. \nECTES: Registration \nECTES: Scientific programme \nPlease find all detailed information on this website: ECTES: European Congress of Trauma and Emergency Surgery \n  \n 
URL:https://www.estesonline.org/event/25-europaischer-kongress-fur-unfall-und-notfallchirurgie-estes-8-weltkongress-fur-unfallchirurgie-wctc/
LOCATION:Stockholm – Schweden\, Sweden
CATEGORIES:Endorsed
END:VEVENT
END:VCALENDAR