BEGIN:VCALENDAR
VERSION:2.0
PRODID:-//ESTES ONLINE - ECPv6.15.17.1//NONSGML v1.0//EN
CALSCALE:GREGORIAN
METHOD:PUBLISH
X-WR-CALNAME:ESTES ONLINE
X-ORIGINAL-URL:https://www.estesonline.org
X-WR-CALDESC:Events for ESTES ONLINE
REFRESH-INTERVAL;VALUE=DURATION:PT1H
X-Robots-Tag:noindex
X-PUBLISHED-TTL:PT1H
BEGIN:VTIMEZONE
TZID:Europe/Berlin
BEGIN:DAYLIGHT
TZOFFSETFROM:+0100
TZOFFSETTO:+0200
TZNAME:CEST
DTSTART:20220327T010000
END:DAYLIGHT
BEGIN:STANDARD
TZOFFSETFROM:+0200
TZOFFSETTO:+0100
TZNAME:CET
DTSTART:20221030T010000
END:STANDARD
BEGIN:DAYLIGHT
TZOFFSETFROM:+0100
TZOFFSETTO:+0200
TZNAME:CEST
DTSTART:20230326T010000
END:DAYLIGHT
BEGIN:STANDARD
TZOFFSETFROM:+0200
TZOFFSETTO:+0100
TZNAME:CET
DTSTART:20231029T010000
END:STANDARD
BEGIN:DAYLIGHT
TZOFFSETFROM:+0100
TZOFFSETTO:+0200
TZNAME:CEST
DTSTART:20240331T010000
END:DAYLIGHT
BEGIN:STANDARD
TZOFFSETFROM:+0200
TZOFFSETTO:+0100
TZNAME:CET
DTSTART:20241027T010000
END:STANDARD
BEGIN:DAYLIGHT
TZOFFSETFROM:+0100
TZOFFSETTO:+0200
TZNAME:CEST
DTSTART:20250330T010000
END:DAYLIGHT
BEGIN:STANDARD
TZOFFSETFROM:+0200
TZOFFSETTO:+0100
TZNAME:CET
DTSTART:20251026T010000
END:STANDARD
END:VTIMEZONE
BEGIN:VEVENT
DTSTART;VALUE=DATE:20240426
DTEND;VALUE=DATE:20240427
DTSTAMP:20260424T221101
CREATED:20240110T133650Z
LAST-MODIFIED:20240125T142944Z
UID:2343-1714089600-1714175999@www.estesonline.org
SUMMARY:Cadaver Course of Open Abdomen Management and Complex Abdominal Wall  Reconstruction (OA&AWR Cadaver Lab)
DESCRIPTION:Please click here for further details.
URL:https://www.estesonline.org/event/cadaver-course-of-open-abdomen-management-and-complex-abdominal-wall-reconstruction-oaawr-cadaver-lab/
LOCATION:FMUP (Medical College of Porto University)\, Porto\, 4200-319\, Portugal
CATEGORIES:Endorsed
END:VEVENT
BEGIN:VEVENT
DTSTART;VALUE=DATE:20240425
DTEND;VALUE=DATE:20240427
DTSTAMP:20260424T221101
CREATED:20240125T174416Z
LAST-MODIFIED:20240130T154701Z
UID:2413-1714003200-1714175999@www.estesonline.org
SUMMARY:Emergency Surgery Course (ESC)
DESCRIPTION:Please click here to see the flyer with more information. \nHere is the detailed timetable.
URL:https://www.estesonline.org/event/emergency-surgery-course-esc-2/
LOCATION:Figueria da Foz\, Portugal
CATEGORIES:Endorsed
END:VEVENT
BEGIN:VEVENT
DTSTART;TZID=Europe/Berlin:20240424T080000
DTEND;TZID=Europe/Berlin:20240426T170000
DTSTAMP:20260424T221101
CREATED:20240117T131622Z
LAST-MODIFIED:20240117T131622Z
UID:2379-1713945600-1714150800@www.estesonline.org
SUMMARY:MRMI Almada Postgraduate course in Medical Response to Major Incidents
DESCRIPTION:with focus on Trauma and Mass Casualty Incidents. \nPlease click here to have a look at the flyer.
URL:https://www.estesonline.org/event/mrmi-almada-postgraduate-course-in-medical-response-to-major-incidents/
LOCATION:Almada\, Portugal\, Almada\, Portugal
CATEGORIES:Endorsed
END:VEVENT
BEGIN:VEVENT
DTSTART;VALUE=DATE:20240424
DTEND;VALUE=DATE:20240427
DTSTAMP:20260424T221101
CREATED:20240120T202119Z
LAST-MODIFIED:20240408T152046Z
UID:2393-1713916800-1714175999@www.estesonline.org
SUMMARY:Definitive Surgical and Anaesthetic Trauma Care (DSTC and DATC)
DESCRIPTION:Please click here to have a look at the flyer. \nFor detailed information please click here. \n  \n 
URL:https://www.estesonline.org/event/definitive-surgical-and-anaesthetic-trauma-care-dstc-and-datc/
LOCATION:Santarém\, Portugal
CATEGORIES:Endorsed
END:VEVENT
BEGIN:VEVENT
DTSTART;TZID=Europe/Berlin:20240423T080000
DTEND;TZID=Europe/Berlin:20240426T170000
DTSTAMP:20260424T221101
CREATED:20231109T193434Z
LAST-MODIFIED:20240130T105203Z
UID:2226-1713859200-1714150800@www.estesonline.org
SUMMARY:ECTES 2024 - Pre-Congress-Courses
DESCRIPTION:Here is a list of all offered Pre-Congress-Courses. \n  \n 
URL:https://www.estesonline.org/event/ectes-2024-pre-congress-courses/
LOCATION:Portugal
CATEGORIES:Endorsed
END:VEVENT
BEGIN:VEVENT
DTSTART;TZID=Europe/Berlin:20240328T180000
DTEND;TZID=Europe/Berlin:20240328T193000
DTSTAMP:20260424T221101
CREATED:20240314T134702Z
LAST-MODIFIED:20240314T135339Z
UID:2478-1711648800-1711654200@www.estesonline.org
SUMMARY:ESTES Webinar - Healing beyond cure: Recognizing When to Stop. Futility of care and end of life in trauma
DESCRIPTION:Please click here to have a look at the flyer.
URL:https://www.estesonline.org/event/estes-webinar-healing-beyond-cure-recognizing-when-to-stop-futility-of-care-and-end-of-life-in-trauma/
CATEGORIES:Endorsed
END:VEVENT
BEGIN:VEVENT
DTSTART;VALUE=DATE:20240311
DTEND;VALUE=DATE:20240313
DTSTAMP:20260424T221101
CREATED:20231205T143645Z
LAST-MODIFIED:20231205T143805Z
UID:2292-1710115200-1710287999@www.estesonline.org
SUMMARY:ESC – Emergency Surgery Course
DESCRIPTION:  \nPlease find more details here.
URL:https://www.estesonline.org/event/esc-emergency-surgery-course-4/
LOCATION:Universitätsklinikum Graz\, Auenbruggerpl. 1\, Graz\, Steiermark\, 8036\, Austria
END:VEVENT
BEGIN:VEVENT
DTSTART;TZID=Europe/Berlin:20240304T180000
DTEND;TZID=Europe/Berlin:20240304T200000
DTSTAMP:20260424T221101
CREATED:20240218T194946Z
LAST-MODIFIED:20240219T161707Z
UID:2453-1709575200-1709582400@www.estesonline.org
SUMMARY:ESTES Webinar: Polytrauma and intensive care: definitive surgical treatment
DESCRIPTION:  \nWebinar Flyer\n  \nRegistration\n 
URL:https://www.estesonline.org/event/polytrauma-and-intensive-care-definitive-surgical-treatment/
CATEGORIES:Endorsed
END:VEVENT
BEGIN:VEVENT
DTSTART;TZID=Europe/Berlin:20240301T080000
DTEND;TZID=Europe/Berlin:20240302T130000
DTSTAMP:20260424T221101
CREATED:20240111T193841Z
LAST-MODIFIED:20240111T194023Z
UID:2351-1709280000-1709384400@www.estesonline.org
SUMMARY:MUSEC  - Modular Ultrasound ESTES Course
DESCRIPTION:Please find here the flyer  of  the course. \nFor further information click here to see the program. \nInscription via email: efreixa@tauli.cat \n  \n 
URL:https://www.estesonline.org/event/musec-modular-ultrasound-estes-course-4/
LOCATION:Parc de Taulí\, Hospital Universitari\, Parc de Taulí\, 1\, Ed. Taulí\, Sabadell\, 08208\, Spain
CATEGORIES:Endorsed
END:VEVENT
BEGIN:VEVENT
DTSTART;TZID=Europe/Berlin:20231206T190000
DTEND;TZID=Europe/Berlin:20231206T190000
DTSTAMP:20260424T221101
CREATED:20231205T161444Z
LAST-MODIFIED:20231205T161444Z
UID:2299-1701889200-1701889200@www.estesonline.org
SUMMARY:WITS: Global Efforts for the Care of the Injured: WHO and the Acute Care Action Network
DESCRIPTION:Zoom Meeting Link
URL:https://www.estesonline.org/event/wits-global-efforts-for-the-care-of-the-injured-who-and-the-acute-care-action-network/
LOCATION:https://us02web.zoom.us/j/84946402834#success
END:VEVENT
BEGIN:VEVENT
DTSTART;TZID=Europe/Berlin:20231204T180000
DTEND;TZID=Europe/Berlin:20231204T190000
DTSTAMP:20260424T221101
CREATED:20231106T142029Z
LAST-MODIFIED:20231204T140701Z
UID:2205-1701712800-1701716400@www.estesonline.org
SUMMARY:Imaging in blunt thoracoabdominal trauma - the surgeon's guide
DESCRIPTION:Please click here for further information. \nRegistration link: \nhttps://estesonline-org.zoom.us/webinar/register/WN_pYRdW4c0RueUzCVTI7kZKQ
URL:https://www.estesonline.org/event/imaging-in-blunt-thoracoabdominal-trauma-the-surgeons-guide/
CATEGORIES:Endorsed
END:VEVENT
BEGIN:VEVENT
DTSTART;VALUE=DATE:20231129
DTEND;VALUE=DATE:20231202
DTSTAMP:20260424T221101
CREATED:20230909T061128Z
LAST-MODIFIED:20230909T065235Z
UID:2143-1701216000-1701475199@www.estesonline.org
SUMMARY:Definitive Anaesthetic Trauma Care (DATC™)
DESCRIPTION:Course Program\nThe Definitive Anaesthetic Trauma Care (DATC™) course is developed under the auspices of the\nPortuguese Steering Committee of the International Association for Trauma Surgery and Intensive Care (IATSIC). \nApplications: datc.coimbra@gmail.com
URL:https://www.estesonline.org/event/definitive-anaesthetic-trauma-care-datc/
LOCATION:Santarém\, Quinta da Fonte Boa\, Vale de Santarém\, Santarém\, Portugal
CATEGORIES:Endorsed
END:VEVENT
BEGIN:VEVENT
DTSTART;TZID=Europe/Berlin:20231120T190000
DTEND;TZID=Europe/Berlin:20231120T200000
DTSTAMP:20260424T221101
CREATED:20231106T141840Z
LAST-MODIFIED:20231110T122410Z
UID:2203-1700506800-1700510400@www.estesonline.org
SUMMARY:Multiple Organ Failure after Polytrauma
DESCRIPTION:Please find here information about speakers\, moderators and panelists. \n  \nRegistration-Link: \nhttps://estesonline-org.zoom.us/webinar/register/WN_phu7V-b9T7qAUkHvWZ9ozw
URL:https://www.estesonline.org/event/multiple-organ-failure-after-polytrauma/
CATEGORIES:Endorsed
END:VEVENT
BEGIN:VEVENT
DTSTART;VALUE=DATE:20231115
DTEND;VALUE=DATE:20231118
DTSTAMP:20260424T221101
CREATED:20230814T073423Z
LAST-MODIFIED:20230926T113941Z
UID:2111-1700006400-1700265599@www.estesonline.org
SUMMARY:European Trauma Course
DESCRIPTION:Please click here for futher information
URL:https://www.estesonline.org/event/european-trauma-course-2/
LOCATION:Madeira\, Portugal
CATEGORIES:Endorsed
ORGANIZER;CN="ALTEC":MAILTO:luisferreira82@hotmail.com
END:VEVENT
BEGIN:VEVENT
DTSTART;VALUE=DATE:20231112
DTEND;VALUE=DATE:20231115
DTSTAMP:20260424T221101
CREATED:20230814T073234Z
LAST-MODIFIED:20230926T114017Z
UID:2107-1699747200-1700006399@www.estesonline.org
SUMMARY:European Trauma Course
DESCRIPTION:Please click here for further information
URL:https://www.estesonline.org/event/european-trauma-course/
LOCATION:Madeira\, Portugal
CATEGORIES:Endorsed
ORGANIZER;CN="ALTEC":MAILTO:luisferreira82@hotmail.com
END:VEVENT
BEGIN:VEVENT
DTSTART;VALUE=DATE:20231012
DTEND;VALUE=DATE:20231013
DTSTAMP:20260424T221101
CREATED:20230606T192229Z
LAST-MODIFIED:20230615T115300Z
UID:2066-1697068800-1697155199@www.estesonline.org
SUMMARY:NUOVE PROSPETTIVE NELLA SINTESI DELLE FRATTURE DELL'OMERO PROSSIMALE
DESCRIPTION:Finalità: Le fratture di omero prossimale rappresentano una sfida per l’ortopedico per fornire soluzioni terapeutiche sempre più aggiornate sia dal punto di vista chirurgico che riabilitativo e medico\, essendo spesso correlate con quadri di osteoporosi. Scopo del congresso è analizzare le più recenti novità sul tema alla luce delle ultime evidenze della letteratura scientifica e tracciare delle conclusioni comuni grazie al confronto tra specialisti (ortopedici\, fisiatri\, anestesisti e fisioterapisti). \nProgramma \nIscrizioni. on-line sul sito www.formazionesanitapiemonte.it  Sono previsti 50 posti per interni ASLTO3 e 30 posti per esterni. \nQuota di iscrizione: € 50 per esterni. Le quote di iscrizione sono coperte dal finanziamento non condizionante dello sponsor \nSegreteria Formazione \nTel.– 011. 4017099 – 0121.235245 dal lunedì al venerdì dalle ore 9.00 alle ore 11.00 \ne-mail: segreteria.formazione@aslto3.piemonte.it
URL:https://www.estesonline.org/event/nuove-prospettive-nella-sintesi-delle-fratture-dellomero-prossimale/
LOCATION:Pinerolo\, sede ASLTO3 Sala Conferenze\, Pinerolo\, Turin\, Italy
CATEGORIES:Endorsed
END:VEVENT
BEGIN:VEVENT
DTSTART;VALUE=DATE:20231007
DTEND;VALUE=DATE:20231008
DTSTAMP:20260424T221101
CREATED:20230814T100335Z
LAST-MODIFIED:20230814T100335Z
UID:2114-1696636800-1696723199@www.estesonline.org
SUMMARY:International Trauma Conference
DESCRIPTION:Conference Program
URL:https://www.estesonline.org/event/international-trauma-conference/
LOCATION:Kortrijk\, Belgium
CATEGORIES:Endorsed
END:VEVENT
BEGIN:VEVENT
DTSTART;VALUE=DATE:20231002
DTEND;VALUE=DATE:20231004
DTSTAMP:20260424T221101
CREATED:20230615T115524Z
LAST-MODIFIED:20230615T121238Z
UID:2074-1696204800-1696377599@www.estesonline.org
SUMMARY:Emergency Surgery Course (ESC)
DESCRIPTION:an ESTES and AAST joint course \ndedicated to furthering knowledge on emergency general surgery \nOur Flyer \n  \n  \n 
URL:https://www.estesonline.org/event/emergency-surgery-course-esc/
LOCATION:Faro (PORTUGAL)
CATEGORIES:Endorsed
END:VEVENT
BEGIN:VEVENT
DTSTART;TZID=Europe/Berlin:20230930T080000
DTEND;TZID=Europe/Berlin:20230930T190000
DTSTAMP:20260424T221101
CREATED:20230718T192013Z
LAST-MODIFIED:20230912T183030Z
UID:2086-1696060800-1696100400@www.estesonline.org
SUMMARY:MUSEC: Modular Ultrasound ESTES Course
DESCRIPTION:Por favor haga clic aquí para más información \n 
URL:https://www.estesonline.org/event/musec-modular-ultrasound-estes-course-3/
LOCATION:Hospital Universitario de Cabueñes\, Los Prados 395\, Gijón\, Asturias\, 33394\, Spain
END:VEVENT
BEGIN:VEVENT
DTSTART;VALUE=DATE:20230926
DTEND;VALUE=DATE:20230927
DTSTAMP:20260424T221101
CREATED:20230812T125744Z
LAST-MODIFIED:20230812T125744Z
UID:2101-1695686400-1695772799@www.estesonline.org
SUMMARY:Hands-On Instructional Course - Traumatic Vertebral Fractures
DESCRIPTION:Course Program
URL:https://www.estesonline.org/event/hands-on-instructional-course-traumatic-vertebral-fractures/
LOCATION:Groningen\, Netherlands
END:VEVENT
BEGIN:VEVENT
DTSTART;VALUE=DATE:20230925
DTEND;VALUE=DATE:20230927
DTSTAMP:20260424T221101
CREATED:20221209T220529Z
LAST-MODIFIED:20230506T100153Z
UID:1865-1695600000-1695772799@www.estesonline.org
SUMMARY:DSTC - Definitive Surgical Trauma Care
DESCRIPTION:  \nCOURSE PROGRAM
URL:https://www.estesonline.org/event/dstc-definitive-surgical-trauma-care-4/
LOCATION:Medical University of Graz\, Austria
CATEGORIES:Endorsed
END:VEVENT
BEGIN:VEVENT
DTSTART;VALUE=DATE:20230918
DTEND;VALUE=DATE:20230920
DTSTAMP:20260424T221101
CREATED:20221209T220237Z
LAST-MODIFIED:20230506T100330Z
UID:1862-1694995200-1695167999@www.estesonline.org
SUMMARY:DSTC - Definitive Surgical Trauma Care
DESCRIPTION:COURSE PROGRAM
URL:https://www.estesonline.org/event/dstc-definitive-surgical-trauma-care-3/
LOCATION:Medical University of Graz\, Austria
CATEGORIES:Endorsed
END:VEVENT
BEGIN:VEVENT
DTSTART;VALUE=DATE:20230914
DTEND;VALUE=DATE:20230916
DTSTAMP:20260424T221101
CREATED:20230506T091346Z
LAST-MODIFIED:20230904T121856Z
UID:1978-1694649600-1694822399@www.estesonline.org
SUMMARY:12th Interdisciplinary Polytrauma Course in cooperation with ESTES
DESCRIPTION:Polytraumacourse – Program \nExpert panel (Day 1) \nESTES Session (day 2) \nSimulation training\, combined with theory\, course parcours and pelvic workshops (day 1 & day 2) \nFurther Information: Website  https://www.usz.ch/veranstaltung/12th-interdisciplinary-course-polytrauma-care-2023/
URL:https://www.estesonline.org/event/https-www-estesonline-org-wp-content-uploads-2023-09-pff_polytraumversorgung-2023_digital_einzelseiten_final-pdf/
LOCATION:University Hospital Zurich\, Frauenklinikstrasse 10\, Zurich\, Zurick\, 8091
CATEGORIES:Endorsed
END:VEVENT
BEGIN:VEVENT
DTSTART;VALUE=DATE:20230904
DTEND;VALUE=DATE:20230906
DTSTAMP:20260424T221101
CREATED:20230812T124414Z
LAST-MODIFIED:20230812T125930Z
UID:2093-1693785600-1693958399@www.estesonline.org
SUMMARY:2023 CWIS International
DESCRIPTION:Course Flyer
URL:https://www.estesonline.org/event/2023-cwis-international/
LOCATION:Amsterdam\, Netherlands
END:VEVENT
BEGIN:VEVENT
DTSTART;VALUE=DATE:20230703
DTEND;VALUE=DATE:20230706
DTSTAMP:20260424T221101
CREATED:20230115T123040Z
LAST-MODIFIED:20230115T123040Z
UID:1889-1688342400-1688601599@www.estesonline.org
SUMMARY:7th E.S.T.R.O.T. Congress
DESCRIPTION:First Announcement
URL:https://www.estesonline.org/event/7th-e-s-t-r-o-t-congress/
LOCATION:Frankfurt\, Germany
CATEGORIES:Endorsed
END:VEVENT
BEGIN:VEVENT
DTSTART;VALUE=DATE:20230621
DTEND;VALUE=DATE:20230624
DTSTAMP:20260424T221101
CREATED:20230115T113334Z
LAST-MODIFIED:20230115T113628Z
UID:1882-1687305600-1687564799@www.estesonline.org
SUMMARY:DSAPNTC
DESCRIPTION:DSTC – Definitive Surgical Trauma Care\nDATC – Definitive Anaesthetic Trauma Care\nDPNTC – Definitive Perioperative Nurse Trauma Care \nCourse Program
URL:https://www.estesonline.org/event/dsapntc-tm/
LOCATION:Santarém\, Quinta da Fonte Boa\, Vale de Santarém\, Santarém\, Portugal
CATEGORIES:Endorsed
END:VEVENT
BEGIN:VEVENT
DTSTART;TZID=Europe/Berlin:20230529T180000
DTEND;TZID=Europe/Berlin:20230529T190000
DTSTAMP:20260424T221101
CREATED:20230412T101227Z
LAST-MODIFIED:20230412T105553Z
UID:1966-1685383200-1685386800@www.estesonline.org
SUMMARY:ESTES Webinar: Plating of acute humeral shaft fractures with metaphyseal extension: which approaches\, which plates ?
DESCRIPTION:
URL:https://www.estesonline.org/event/plating-of-acute-humeral-shaft-fractures-with-metaphyseal-extension-which-approaches-which-plates/
CATEGORIES:Endorsed
END:VEVENT
BEGIN:VEVENT
DTSTART;TZID=Europe/Berlin:20230522T180000
DTEND;TZID=Europe/Berlin:20230522T190000
DTSTAMP:20260424T221101
CREATED:20230412T101425Z
LAST-MODIFIED:20230412T105731Z
UID:1968-1684778400-1684782000@www.estesonline.org
SUMMARY:ESTES Webinar: Aorto enteric fistula :  what does the surgeon on-duty need to know?
DESCRIPTION:
URL:https://www.estesonline.org/event/aorto-enteric-fistula-what-does-the-surgeon-on-duty-need-to-know/
CATEGORIES:Endorsed
END:VEVENT
BEGIN:VEVENT
DTSTART;VALUE=DATE:20230505
DTEND;VALUE=DATE:20230507
DTSTAMP:20260424T221101
CREATED:20230321T084758Z
LAST-MODIFIED:20230321T085215Z
UID:1951-1683244800-1683417599@www.estesonline.org
SUMMARY:MUSEC - Modular UltraSound ESTES Course
DESCRIPTION:Course Flyer
URL:https://www.estesonline.org/event/musec-modular-ultrasound-estes-course-2/
LOCATION:Ljubljana\, Slovenia\, Ljubljana\, Slovenia
CATEGORIES:Endorsed
END:VEVENT
BEGIN:VEVENT
DTSTART;VALUE=DATE:20230505
DTEND;VALUE=DATE:20230507
DTSTAMP:20260424T221101
CREATED:20230309T075130Z
LAST-MODIFIED:20230315T091844Z
UID:1937-1683244800-1683417599@www.estesonline.org
SUMMARY:Emergency Surgery Course (Official ESTES/AAST Course)
DESCRIPTION:Official ESTES/AAST Course \nESC Registration Link\nESC Flyer
URL:https://www.estesonline.org/event/emergency-surgery-course/
LOCATION:Ljubljana\, Slovenia\, Ljubljana\, Slovenia
CATEGORIES:Endorsed
END:VEVENT
END:VCALENDAR