BEGIN:VCALENDAR
VERSION:2.0
PRODID:-//ESTES ONLINE - ECPv6.15.17.1//NONSGML v1.0//EN
CALSCALE:GREGORIAN
METHOD:PUBLISH
X-ORIGINAL-URL:https://www.estesonline.org
X-WR-CALDESC:Events for ESTES ONLINE
REFRESH-INTERVAL;VALUE=DURATION:PT1H
X-Robots-Tag:noindex
X-PUBLISHED-TTL:PT1H
BEGIN:VTIMEZONE
TZID:Europe/Berlin
BEGIN:DAYLIGHT
TZOFFSETFROM:+0100
TZOFFSETTO:+0200
TZNAME:CEST
DTSTART:20250330T010000
END:DAYLIGHT
BEGIN:STANDARD
TZOFFSETFROM:+0200
TZOFFSETTO:+0100
TZNAME:CET
DTSTART:20251026T010000
END:STANDARD
BEGIN:DAYLIGHT
TZOFFSETFROM:+0100
TZOFFSETTO:+0200
TZNAME:CEST
DTSTART:20260329T010000
END:DAYLIGHT
BEGIN:STANDARD
TZOFFSETFROM:+0200
TZOFFSETTO:+0100
TZNAME:CET
DTSTART:20261025T010000
END:STANDARD
BEGIN:DAYLIGHT
TZOFFSETFROM:+0100
TZOFFSETTO:+0200
TZNAME:CEST
DTSTART:20270328T010000
END:DAYLIGHT
BEGIN:STANDARD
TZOFFSETFROM:+0200
TZOFFSETTO:+0100
TZNAME:CET
DTSTART:20271031T010000
END:STANDARD
END:VTIMEZONE
BEGIN:VEVENT
DTSTART;VALUE=DATE:20260206
DTEND;VALUE=DATE:20260208
DTSTAMP:20260424T101114
CREATED:20251117T203632Z
LAST-MODIFIED:20251117T203632Z
UID:3353-1770336000-1770508799@www.estesonline.org
SUMMARY:1st International Conference on Integrated Approaches to Combat Trauma (ACT 2026)
DESCRIPTION:ACT 2026 will bring together leading trauma surgeons and rehabilitation specialists from around the world to exchange ideas\, showcase innovation\, and help shape the future of integrated trauma care. If this is relevant to your work or your colleagues\, it is an excellent opportunity to join the global community. \nYou can view the preliminary scientific program and conference highlights here:\nhttps://act2026.com/scientific-program/ \nRegister here: https://act2026.com/ \nWe would be grateful if you could share this special offer with your members or through your social media platforms. \nPlease do not hesitate to contact me should you require any additional information. \nBest regards\, \nRevital Shoan Pinkas\nACT Project Manager & Sponsorship Liaison \nRNR Events & Congresses
URL:https://www.estesonline.org/event/1st-international-conference-on-integrated-approaches-to-combat-trauma-act-2026/
LOCATION:Budapest\, Hungary
END:VEVENT
END:VCALENDAR